BEGIN:VCALENDAR
VERSION:2.0
PRODID:-//Cambridge Advanced Motorcyclists - ECPv6.15.18//NONSGML v1.0//EN
CALSCALE:GREGORIAN
METHOD:PUBLISH
X-ORIGINAL-URL:https://cambsiam.org.uk
X-WR-CALDESC:Events for Cambridge Advanced Motorcyclists
REFRESH-INTERVAL;VALUE=DURATION:PT1H
X-Robots-Tag:noindex
X-PUBLISHED-TTL:PT1H
BEGIN:VTIMEZONE
TZID:Europe/London
BEGIN:DAYLIGHT
TZOFFSETFROM:+0000
TZOFFSETTO:+0100
TZNAME:BST
DTSTART:20250330T010000
END:DAYLIGHT
BEGIN:STANDARD
TZOFFSETFROM:+0100
TZOFFSETTO:+0000
TZNAME:GMT
DTSTART:20251026T010000
END:STANDARD
BEGIN:DAYLIGHT
TZOFFSETFROM:+0000
TZOFFSETTO:+0100
TZNAME:BST
DTSTART:20260329T010000
END:DAYLIGHT
BEGIN:STANDARD
TZOFFSETFROM:+0100
TZOFFSETTO:+0000
TZNAME:GMT
DTSTART:20261025T010000
END:STANDARD
BEGIN:DAYLIGHT
TZOFFSETFROM:+0000
TZOFFSETTO:+0100
TZNAME:BST
DTSTART:20270328T010000
END:DAYLIGHT
BEGIN:STANDARD
TZOFFSETFROM:+0100
TZOFFSETTO:+0000
TZNAME:GMT
DTSTART:20271031T010000
END:STANDARD
END:VTIMEZONE
BEGIN:VEVENT
DTSTART;TZID=Europe/London:20260423T193000
DTEND;TZID=Europe/London:20260423T213000
DTSTAMP:20260421T012137
CREATED:20260223T143529Z
LAST-MODIFIED:20260223T143551Z
UID:19583-1776972600-1776979800@cambsiam.org.uk
SUMMARY:the Metropolitan Police  Special Escort Group
DESCRIPTION:A talk by Simon Burgin. details to follow
URL:https://cambsiam.org.uk/event/the-metropolitan-special-escort-group/
LOCATION:Over Community Centre\, The Doles\, Over\, Cambridgeshire\, CB24 5NY
ORGANIZER;CN="Catherine  Ryan":MAILTO:cm.ryan@tiscali.co.uk
END:VEVENT
BEGIN:VEVENT
DTSTART;TZID=Europe/London:20260426T093000
DTEND;TZID=Europe/London:20260426T133000
DTSTAMP:20260421T012137
CREATED:20251119T194357Z
LAST-MODIFIED:20260420T184207Z
UID:19149-1777195800-1777210200@cambsiam.org.uk
SUMMARY:Sunday ride
DESCRIPTION:This ride will be led by Keith Curtis and tail ended by Peter Grant\n \nStarting and finishing at the BP Garage on Newmarket Road\, CB5 8AA\nW3W: game.flaunting.fence \nBypassing the Wilbrahams we make our way towards the outskirts of Haverhill via Six Mile Botton and West Wratting. Bypassing Haverhill we turn right towards and through Steeple Bumpstead before touching the edge of Finchingfield and continuing our cross-country route to The Hub on the outskirts of Chelmsford. \nAfter breakfast we return via a generally more westerly route\, but still on similar roads to the ones used on the way out and Finchingfield is again on the route.Turning left in the centre of Finchingfield (towardsThe Sampfords) we will make our way across country back to our starting point via Hempstead\, Helions Bumpstead Linton and Balsham.
URL:https://cambsiam.org.uk/event/group-organised-ride-10/
LOCATION:BP Cambridge (Newmarket Road)\, Newmarket Road\, Cambridge\, CB5 8AA
ATTACH;FMTTYPE=image/jpeg:https://cambsiam.org.uk/wp-content/uploads/2024/11/wintry-bike.jpg
END:VEVENT
BEGIN:VEVENT
DTSTART;TZID=Europe/London:20260429T093000
DTEND;TZID=Europe/London:20260429T180000
DTSTAMP:20260421T012137
CREATED:20260212T163406Z
LAST-MODIFIED:20260420T184646Z
UID:19546-1777455000-1777485600@cambsiam.org.uk
SUMMARY:Ride to the  Lincolnshire Wolds
DESCRIPTION:This mid-week ride will be led by Ian Dunckley. \n\nWe will start from the Starbucks next to theA10 BP fuel station (///ballparks.displays.seriously) and end in the car park at Ely leisure village just off the A10 (///diplomats.showcase.fairy). This trip takes us North through the fen roads and the A17\, to the A and B roads around and through the Wolds of Lincolnshire with more curves than I can count and roads with very few potholes. There are few 20mph zones and no motorway or dual carriageway sections\, roads across the fens tend to be straight but this is not the case once beyond Coningsby where the roads become fluid curving rural roads with rises and dips in the Wolds. You will see beautiful countryside and market towns with a feel of old England.\nWe also get some experience of many RAF bases from WWII\, a fabulous early brunch at Woodhall Spa and/or a great hot or cold pie at Bardney\, then refuel at Market Raisen. Form here if time and energy levels permit we can ride to Caistor\, or go direct across to Louth for mid afternoon tea\, then a nice tour south through the East side of the Wolds to Horncastle or to the Aviation heritage centre at East Kirby for a final rest and tea before heading back to Ely in the reverse of the outward route\, it always looks different in reverse.\nThe route takes in Welney\, Upwell\, Outwell\, Wisbech\, Long Sutton\, Coningsby\, Bardney\, Wragby\, Market Raisen\, Caistor\, Louth\, Alford\, Horncastle.\nWe will stop at the Tea House in the Woods at Woodhall Spa at around 1130 which I will try and keep open for breakfast\, Assuming that you can get a splendid breakfast or something more intricate from the lunch menu.\nThe link is here
URL:https://cambsiam.org.uk/event/ride-to-the-lincolnshire-wolds/
END:VEVENT
BEGIN:VEVENT
DTSTART;TZID=Europe/London:20260503T093000
DTEND;TZID=Europe/London:20260503T133000
DTSTAMP:20260421T012137
CREATED:20251119T194952Z
LAST-MODIFIED:20260301T165537Z
UID:19155-1777800600-1777815000@cambsiam.org.uk
SUMMARY:Sunday ride
DESCRIPTION:This ride will be led by xxxxxx and tail ended by Patrick Ryan\nFurther details to follow
URL:https://cambsiam.org.uk/event/group-organised-ride-12/
ATTACH;FMTTYPE=image/jpeg:https://cambsiam.org.uk/wp-content/uploads/2025/01/bike-in-snow.jpg
END:VEVENT
BEGIN:VEVENT
DTSTART;TZID=Europe/London:20260506T193000
DTEND;TZID=Europe/London:20260506T213000
DTSTAMP:20260421T012137
CREATED:20251119T203840Z
LAST-MODIFIED:20251119T204753Z
UID:19226-1778095800-1778103000@cambsiam.org.uk
SUMMARY:Committee Meeting
DESCRIPTION:Details of the members who sit on the Committee can be viewed here \nPhoto by Pawel Chu on Unsplash \nPlease email Roger Taylor (secretary@cambsiam.org.uk)\nif there is a matter which you would like to bring to the attention of Committee Members
URL:https://cambsiam.org.uk/event/committee-meeting-may-2026/
LOCATION:St John’s College School\, 73 Grange Road\, Cambridge\, CB3 9AB\, United Kingdom
ATTACH;FMTTYPE=image/jpeg:https://cambsiam.org.uk/wp-content/uploads/2025/09/examine.jpg
END:VEVENT
BEGIN:VEVENT
DTSTART;TZID=Europe/London:20260509T100000
DTEND;TZID=Europe/London:20260509T130000
DTSTAMP:20260421T012137
CREATED:20251215T185353Z
LAST-MODIFIED:20260409T153657Z
UID:19319-1778320800-1778331600@cambsiam.org.uk
SUMMARY:Observer Task Force
DESCRIPTION:Details to follow
URL:https://cambsiam.org.uk/event/rl-te-training/
LOCATION:Over Community Centre\, The Doles\, Over\, Cambridgeshire\, CB24 5NY
ORGANIZER;CN="Shaun Digby":MAILTO:chief-observer@cambsiam.org.uk
END:VEVENT
BEGIN:VEVENT
DTSTART;TZID=Europe/London:20260513T093000
DTEND;TZID=Europe/London:20260513T173000
DTSTAMP:20260421T012137
CREATED:20251119T195503Z
LAST-MODIFIED:20251119T195503Z
UID:19161-1778664600-1778693400@cambsiam.org.uk
SUMMARY:All day ride
DESCRIPTION:This ride will be led by Martyn Fordham and tail ended by (TBC)\nFurther details to follow
URL:https://cambsiam.org.uk/event/all-day-ride/
ATTACH;FMTTYPE=image/jpeg:https://cambsiam.org.uk/wp-content/uploads/2024/12/kites-530.jpg
END:VEVENT
BEGIN:VEVENT
DTSTART;TZID=Europe/London:20260517T093000
DTEND;TZID=Europe/London:20260517T133000
DTSTAMP:20260421T012137
CREATED:20251119T195716Z
LAST-MODIFIED:20251119T195716Z
UID:19164-1779010200-1779024600@cambsiam.org.uk
SUMMARY:Sunday ride
DESCRIPTION:This ride will be led by Peter Grant and tail ended by (TBC)\nFurther details to follow
URL:https://cambsiam.org.uk/event/sunday-ride-4/
ATTACH;FMTTYPE=image/jpeg:https://cambsiam.org.uk/wp-content/uploads/2024/12/tyre-90.jpg
END:VEVENT
BEGIN:VEVENT
DTSTART;TZID=Europe/London:20260520T093000
DTEND;TZID=Europe/London:20260520T133000
DTSTAMP:20260421T012137
CREATED:20251119T195210Z
LAST-MODIFIED:20251119T195210Z
UID:19158-1779269400-1779283800@cambsiam.org.uk
SUMMARY:Midweek ride
DESCRIPTION:This ride will be led by Carl Stannett and tail ended by (TBC)\nFurther details to follow
URL:https://cambsiam.org.uk/event/midweek-ride-5/
ATTACH;FMTTYPE=image/jpeg:https://cambsiam.org.uk/wp-content/uploads/2024/11/kite-200.jpg
END:VEVENT
BEGIN:VEVENT
DTSTART;TZID=Europe/London:20260603T173000
DTEND;TZID=Europe/London:20260603T213000
DTSTAMP:20260421T012137
CREATED:20251119T201652Z
LAST-MODIFIED:20260417T190838Z
UID:19187-1780507800-1780522200@cambsiam.org.uk
SUMMARY:Evening ride
DESCRIPTION:This ride will be led by (TBC) and tail ended by (TBC)  Timings to be confirmed\nFurther details to follow
URL:https://cambsiam.org.uk/event/evening-ride-2/
ATTACH;FMTTYPE=image/jpeg:https://cambsiam.org.uk/wp-content/uploads/2025/03/Night-Owl-5301.jpg
ORGANIZER;CN="Shaun Digby":MAILTO:chief-observer@cambsiam.org.uk
END:VEVENT
BEGIN:VEVENT
DTSTART;TZID=Europe/London:20260607T093000
DTEND;TZID=Europe/London:20260607T133000
DTSTAMP:20260421T012137
CREATED:20251119T200724Z
LAST-MODIFIED:20251119T201412Z
UID:19183-1780824600-1780839000@cambsiam.org.uk
SUMMARY:Sunday ride
DESCRIPTION:This ride will be led by Tim Smith and tail ended by Steve Rowdon\nFurther details to follow
URL:https://cambsiam.org.uk/event/sunday-ride-5/
ATTACH;FMTTYPE=image/jpeg:https://cambsiam.org.uk/wp-content/uploads/2024/11/Willow-400.jpg
END:VEVENT
BEGIN:VEVENT
DTSTART;TZID=Europe/London:20260610T193000
DTEND;TZID=Europe/London:20260610T213000
DTSTAMP:20260421T012137
CREATED:20251119T204022Z
LAST-MODIFIED:20251119T204835Z
UID:19232-1781119800-1781127000@cambsiam.org.uk
SUMMARY:Committee Meeting
DESCRIPTION:Details of the members who sit on the Committee can be viewed here \nPhoto by Pawel Chu on Unsplash \nPlease email Roger Taylor (secretary@cambsiam.org.uk)\nif there is a matter which you would like to bring to the attention of Committee Members
URL:https://cambsiam.org.uk/event/committee-meeting-june-2026/
LOCATION:St John’s College School\, 73 Grange Road\, Cambridge\, CB3 9AB\, United Kingdom
ATTACH;FMTTYPE=image/jpeg:https://cambsiam.org.uk/wp-content/uploads/2025/09/examine.jpg
ORGANIZER;CN="Roger Taylor":MAILTO:secretary@cambsiam.org.uk
END:VEVENT
BEGIN:VEVENT
DTSTART;TZID=Europe/London:20260617T050000
DTEND;TZID=Europe/London:20260617T220000
DTSTAMP:20260421T012137
CREATED:20260130T163103Z
LAST-MODIFIED:20260130T163103Z
UID:19474-1781672400-1781733600@cambsiam.org.uk
SUMMARY:Meldreth Festival of Motorcycles
DESCRIPTION:CAM will attend this event. More details to follow nearer the time
URL:https://cambsiam.org.uk/event/meldreth-festival-of-motorcycles-3/
LOCATION:Eternit Social Club Meldreth\, Whaddon Rd\,\, Meldreth\, SG8 5RL
END:VEVENT
BEGIN:VEVENT
DTSTART;TZID=Europe/London:20260617T170000
DTEND;TZID=Europe/London:20260617T220000
DTSTAMP:20260421T012137
CREATED:20251215T191126Z
LAST-MODIFIED:20251215T191126Z
UID:19333-1781715600-1781733600@cambsiam.org.uk
SUMMARY:Meldreth Festival of Motorcycles
DESCRIPTION:Details to follow
URL:https://cambsiam.org.uk/event/meldreth-festival-of-motorcycles-2/
LOCATION:Eternit Social Club Meldreth\, Whaddon Rd\,\, Meldreth\, SG8 5RL
END:VEVENT
BEGIN:VEVENT
DTSTART;TZID=Europe/London:20260621T093000
DTEND;TZID=Europe/London:20260621T133000
DTSTAMP:20260421T012137
CREATED:20251119T201954Z
LAST-MODIFIED:20251119T201954Z
UID:19190-1782034200-1782048600@cambsiam.org.uk
SUMMARY:Sunday ride
DESCRIPTION:This ride will be led by Ian Dunckley and tail ended by Graham Maile\nFurther details to follow
URL:https://cambsiam.org.uk/event/sunday-ride-6/
ATTACH;FMTTYPE=image/jpeg:https://cambsiam.org.uk/wp-content/uploads/2024/05/Triumph-1.jpg
END:VEVENT
BEGIN:VEVENT
DTSTART;TZID=Europe/London:20260624T093000
DTEND;TZID=Europe/London:20260624T133000
DTSTAMP:20260421T012137
CREATED:20251119T202303Z
LAST-MODIFIED:20251119T202303Z
UID:19195-1782293400-1782307800@cambsiam.org.uk
SUMMARY:Midweek ride
DESCRIPTION:This ride will be led by Martyn Fordham and tail ended by (TBC)\nFurther details to follow
URL:https://cambsiam.org.uk/event/midweek-ride-6/
ATTACH;FMTTYPE=image/jpeg:https://cambsiam.org.uk/wp-content/uploads/2024/11/panda-200.jpg
END:VEVENT
BEGIN:VEVENT
DTSTART;TZID=Europe/London:20260705T093000
DTEND;TZID=Europe/London:20260705T133000
DTSTAMP:20260421T012137
CREATED:20251119T202905Z
LAST-MODIFIED:20251119T202905Z
UID:19208-1783243800-1783258200@cambsiam.org.uk
SUMMARY:Sunday ride
DESCRIPTION:This ride will be led by Patrick Ryan and tail ended by (TBC)\nFurther details to follow
URL:https://cambsiam.org.uk/event/sunday-ride-7/
ATTACH;FMTTYPE=image/jpeg:https://cambsiam.org.uk/wp-content/uploads/2024/05/Jerry-Can-2.jpg
END:VEVENT
BEGIN:VEVENT
DTSTART;TZID=Europe/London:20260706T143000
DTEND;TZID=Europe/London:20260706T203000
DTSTAMP:20260421T012137
CREATED:20251119T202650Z
LAST-MODIFIED:20260130T163808Z
UID:19201-1783348200-1783369800@cambsiam.org.uk
SUMMARY:Afternoon/Evening Ride Date TBC
DESCRIPTION:This ride will be led by Keith Tremeer  and tail ended by (TBC)\nFurther details to follow
URL:https://cambsiam.org.uk/event/afternoon-evening-ride/
ATTACH;FMTTYPE=image/jpeg:https://cambsiam.org.uk/wp-content/uploads/2024/10/arteum-custom-bike-530.jpg
END:VEVENT
BEGIN:VEVENT
DTSTART;TZID=Europe/London:20260708T163000
DTEND;TZID=Europe/London:20260708T213000
DTSTAMP:20260421T012137
CREATED:20251119T203201Z
LAST-MODIFIED:20251215T190848Z
UID:19214-1783528200-1783546200@cambsiam.org.uk
SUMMARY:Evening ride
DESCRIPTION:This ride will be led by Shaun Digby and tail ended by (TBC)\nFurther details to follow
URL:https://cambsiam.org.uk/event/evening-ride-4/
ATTACH;FMTTYPE=image/jpeg:https://cambsiam.org.uk/wp-content/uploads/2024/02/nighttime-200-v2.jpg
ORGANIZER;CN="Shaun Digby":MAILTO:chief-observer@cambsiam.org.uk
END:VEVENT
BEGIN:VEVENT
DTSTART;TZID=Europe/London:20260719T093000
DTEND;TZID=Europe/London:20260719T133000
DTSTAMP:20260421T012137
CREATED:20251119T203808Z
LAST-MODIFIED:20260130T164133Z
UID:19222-1784453400-1784467800@cambsiam.org.uk
SUMMARY:Sunday ride
DESCRIPTION:This ride will be led by Dave Freeman and tail ended by xxxx\nFurther details to follow
URL:https://cambsiam.org.uk/event/sunday-ride-8/
ATTACH;FMTTYPE=image/jpeg:https://cambsiam.org.uk/wp-content/uploads/2024/05/rose-180.jpg
END:VEVENT
BEGIN:VEVENT
DTSTART;TZID=Europe/London:20260722T193000
DTEND;TZID=Europe/London:20260722T213000
DTSTAMP:20260421T012137
CREATED:20251119T204206Z
LAST-MODIFIED:20251119T204206Z
UID:19235-1784748600-1784755800@cambsiam.org.uk
SUMMARY:Committee Meeting
DESCRIPTION:Details of the members who sit on the Committee can be viewed here \nPhoto by Pawel Chu on Unsplash \nPlease email Roger Taylor (secretary@cambsiam.org.uk)\nif there is a matter which you would like to bring to the attention of Committee Members
URL:https://cambsiam.org.uk/event/committee-meeting-july-2026/
LOCATION:St John’s College School\, 73 Grange Road\, Cambridge\, CB3 9AB\, United Kingdom
ATTACH;FMTTYPE=image/jpeg:https://cambsiam.org.uk/wp-content/uploads/2025/09/examine.jpg
ORGANIZER;CN="Roger Taylor":MAILTO:secretary@cambsiam.org.uk
END:VEVENT
BEGIN:VEVENT
DTSTART;TZID=Europe/London:20260725T100000
DTEND;TZID=Europe/London:20260725T160000
DTSTAMP:20260421T012137
CREATED:20251215T192009Z
LAST-MODIFIED:20251215T192009Z
UID:19343-1784973600-1784995200@cambsiam.org.uk
SUMMARY:Group Ride Training
DESCRIPTION:Timings to be confirmed. Details to follow
URL:https://cambsiam.org.uk/event/group-ride-training/
LOCATION:Over Community Centre\, The Doles\, Over\, Cambridgeshire\, CB24 5NY
ORGANIZER;CN="Shaun Digby":MAILTO:chief-observer@cambsiam.org.uk
END:VEVENT
BEGIN:VEVENT
DTSTART;TZID=Europe/London:20260802T093000
DTEND;TZID=Europe/London:20260802T133000
DTSTAMP:20260421T012137
CREATED:20251119T204142Z
LAST-MODIFIED:20251119T204142Z
UID:19229-1785663000-1785677400@cambsiam.org.uk
SUMMARY:Sunday ride
DESCRIPTION:This ride will be led by Catherine Ryan and tail ended by Robert Silver\nFurther details to follow
URL:https://cambsiam.org.uk/event/sunday-ride-13/
ATTACH;FMTTYPE=image/jpeg:https://cambsiam.org.uk/wp-content/uploads/2024/09/smiley.jpg
END:VEVENT
BEGIN:VEVENT
DTSTART;TZID=Europe/London:20260815T090000
DTEND;TZID=Europe/London:20260815T120000
DTSTAMP:20260421T012137
CREATED:20251215T192200Z
LAST-MODIFIED:20251215T192200Z
UID:19346-1786784400-1786795200@cambsiam.org.uk
SUMMARY:Slow Riding Skills
DESCRIPTION:Timings to be confirmed. Details to follow
URL:https://cambsiam.org.uk/event/slow-riding-skills-3/
LOCATION:Cambridge Regional College\, Kings Hedges Rd\, Milton\, Cambridge CB4 2QT\, Cambridge\, Cambridgeshire\, CB4 2QT\, United Kingdom
ORGANIZER;CN="Shaun Digby":MAILTO:chief-observer@cambsiam.org.uk
END:VEVENT
BEGIN:VEVENT
DTSTART;TZID=Europe/London:20260816T093000
DTEND;TZID=Europe/London:20260816T133000
DTSTAMP:20260421T012137
CREATED:20251119T204422Z
LAST-MODIFIED:20251119T204422Z
UID:19238-1786872600-1786887000@cambsiam.org.uk
SUMMARY:Sunday ride
DESCRIPTION:This ride will be led by Graham Maile and tail ended by Alan Triggs\nFurther details to follow
URL:https://cambsiam.org.uk/event/sunday-ride-14/
ATTACH;FMTTYPE=image/jpeg:https://cambsiam.org.uk/wp-content/uploads/2024/08/field-triumph.jpg
END:VEVENT
BEGIN:VEVENT
DTSTART;TZID=Europe/London:20260819T080000
DTEND;TZID=Europe/London:20260819T170000
DTSTAMP:20260421T012137
CREATED:20260130T164040Z
LAST-MODIFIED:20260130T164040Z
UID:19482-1787126400-1787158800@cambsiam.org.uk
SUMMARY:All-day ride
DESCRIPTION:This all-day ride will be organised and led by Keith Tremeer \ndetails to follow in due course
URL:https://cambsiam.org.uk/event/all-day-ride-2/
END:VEVENT
BEGIN:VEVENT
DTSTART;TZID=Europe/London:20260826T193000
DTEND;TZID=Europe/London:20260826T213000
DTSTAMP:20260421T012137
CREATED:20251119T204338Z
LAST-MODIFIED:20251119T204338Z
UID:19240-1787772600-1787779800@cambsiam.org.uk
SUMMARY:Committee Meeting
DESCRIPTION:Details of the members who sit on the Committee can be viewed here \nPhoto by Pawel Chu on Unsplash \nPlease email Roger Taylor (secretary@cambsiam.org.uk)\nif there is a matter which you would like to bring to the attention of Committee Members
URL:https://cambsiam.org.uk/event/committee-meeting-2/
LOCATION:St John’s College School\, 73 Grange Road\, Cambridge\, CB3 9AB\, United Kingdom
ATTACH;FMTTYPE=image/jpeg:https://cambsiam.org.uk/wp-content/uploads/2025/09/examine.jpg
ORGANIZER;CN="Roger Taylor":MAILTO:secretary@cambsiam.org.uk
END:VEVENT
BEGIN:VEVENT
DTSTART;TZID=Europe/London:20260906T093000
DTEND;TZID=Europe/London:20260906T133000
DTSTAMP:20260421T012137
CREATED:20251119T204739Z
LAST-MODIFIED:20260215T174649Z
UID:19246-1788687000-1788701400@cambsiam.org.uk
SUMMARY:Sunday ride
DESCRIPTION:This ride will be led by Peter Grant and tail ended by xxxxxx\nFurther details to follow
URL:https://cambsiam.org.uk/event/sunday-ride-15/
ATTACH;FMTTYPE=image/jpeg:https://cambsiam.org.uk/wp-content/uploads/2024/08/Grahams-Speed-Twin.jpg
END:VEVENT
BEGIN:VEVENT
DTSTART;TZID=Europe/London:20260920T093000
DTEND;TZID=Europe/London:20260920T133000
DTSTAMP:20260421T012137
CREATED:20251119T205011Z
LAST-MODIFIED:20251119T205011Z
UID:19253-1789896600-1789911000@cambsiam.org.uk
SUMMARY:Sunday ride
DESCRIPTION:This ride will be led by Phil Duffy and tail ended by (TBC)\nFurther details to follow
URL:https://cambsiam.org.uk/event/sunday-ride-16/
ATTACH;FMTTYPE=image/jpeg:https://cambsiam.org.uk/wp-content/uploads/2024/02/Triumph-1.jpg
END:VEVENT
BEGIN:VEVENT
DTSTART;TZID=Europe/London:20261004T093000
DTEND;TZID=Europe/London:20261004T133000
DTSTAMP:20260421T012137
CREATED:20251119T205501Z
LAST-MODIFIED:20251119T205501Z
UID:19259-1791106200-1791120600@cambsiam.org.uk
SUMMARY:Sunday ride
DESCRIPTION:This ride will be led by Paul Norman and tail ended by Patrick Ryan. \nFurther details to follow
URL:https://cambsiam.org.uk/event/sunday-ride-17/
ATTACH;FMTTYPE=image/jpeg:https://cambsiam.org.uk/wp-content/uploads/2023/09/Ducati-with-text.jpg
END:VEVENT
END:VCALENDAR